Workbook
Name Alltime: 'Time Increments'!$A$1:$A$97

Sheet Time Increments
A1: 0
A2: 0.29166667
A3: 0.30208333
A4: 0.3125
A5: 0.32291667 | C5: 0.99998843
A6: 0.33333333 | C6: 0
A7: 0.34375
A8: 0.35416667 | D8: Subtotal 1 | E8: Subtotal 3
A9: 0.36458333 | D9: =(Timesheet!G9-Timesheet!F9)*24 -> 0 | E9: =(Timesheet!I9-Timesheet!H9)*24 -> 0
A10: 0.375 | D10: =(Timesheet!G10-Timesheet!F10)*24 -> 0 | E10: =(Timesheet!I10-Timesheet!H10)*24 -> 0
A11: 0.38541667 | D11: =(Timesheet!G11-Timesheet!F11)*24 -> 0 | E11: =(Timesheet!I11-Timesheet!H11)*24 -> 0
A12: 0.39583333 | D12: =(Timesheet!G12-Timesheet!F12)*24 -> 0 | E12: =(Timesheet!I12-Timesheet!H12)*24 -> 0
A13: 0.40625 | D13: =(Timesheet!G13-Timesheet!F13)*24 -> 0 | E13: =(Timesheet!I13-Timesheet!H13)*24 -> 0
A14: 0.41666667 | D14: =(Timesheet!G14-Timesheet!F14)*24 -> 0 | E14: =(Timesheet!I14-Timesheet!H14)*24 -> 0
A15: 0.42708333 | D15: =(Timesheet!G15-Timesheet!F15)*24 -> 0 | E15: =(Timesheet!I15-Timesheet!H15)*24 -> 0
A16: 0.4375
A17: 0.44791667
A18: 0.45833333 | D18: =(Timesheet!G18-Timesheet!F18)*24 -> 0 | E18: =(Timesheet!I18-Timesheet!H18)*24 -> 0
A19: 0.46875 | D19: =(Timesheet!G19-Timesheet!F19)*24 -> 0 | E19: =(Timesheet!I19-Timesheet!H19)*24 -> 0
A20: 0.47916667 | D20: =(Timesheet!G20-Timesheet!F20)*24 -> 0 | E20: =(Timesheet!I20-Timesheet!H20)*24 -> 0
A21: 0.48958333 | D21: =(Timesheet!G21-Timesheet!F21)*24 -> 0 | E21: =(Timesheet!I21-Timesheet!H21)*24 -> 0
A22: 0.5 | D22: =(Timesheet!G22-Timesheet!F22)*24 -> 0 | E22: =(Timesheet!I22-Timesheet!H22)*24 -> 0
A23: 0.51041667 | D23: =(Timesheet!G23-Timesheet!F23)*24 -> 0 | E23: =(Timesheet!I23-Timesheet!H23)*24 -> 0
A24: 0.52083333 | D24: =(Timesheet!G24-Timesheet!F24)*24 -> 0 | E24: =(Timesheet!I24-Timesheet!H24)*24 -> 0
A25: 0.53125
A26: 0.54166667
A27: 0.55208333 | D27: =(Timesheet!G27-Timesheet!F27)*24 -> 0 | E27: =(Timesheet!I27-Timesheet!H27)*24 -> 0
A28: 0.5625 | D28: =(Timesheet!G28-Timesheet!F28)*24 -> 0 | E28: =(Timesheet!I28-Timesheet!H28)*24 -> 0
A29: 0.57291667 | D29: =(Timesheet!G29-Timesheet!F29)*24 -> 0 | E29: =(Timesheet!I29-Timesheet!H29)*24 -> 0
A30: 0.58333333 | D30: =(Timesheet!G30-Timesheet!F30)*24 -> 0 | E30: =(Timesheet!I30-Timesheet!H30)*24 -> 0
A31: 0.59375 | D31: =(Timesheet!G31-Timesheet!F31)*24 -> 0 | E31: =(Timesheet!I31-Timesheet!H31)*24 -> 0
A32: 0.60416667 | D32: =(Timesheet!G32-Timesheet!F32)*24 -> 0 | E32: =(Timesheet!I32-Timesheet!H32)*24 -> 0
A33: 0.61458333 | D33: =(Timesheet!G33-Timesheet!F33)*24 -> 0 | E33: =(Timesheet!I33-Timesheet!H33)*24 -> 0
A34: 0.625
A35: 0.63541667
A36: 0.64583333 | D36: =(Timesheet!G36-Timesheet!F36)*24 -> 0 | E36: =(Timesheet!I36-Timesheet!H36)*24 -> 0
A37: 0.65625 | D37: =(Timesheet!G37-Timesheet!F37)*24 -> 0 | E37: =(Timesheet!I37-Timesheet!H37)*24 -> 0
A38: 0.66666667 | D38: =(Timesheet!G38-Timesheet!F38)*24 -> 0 | E38: =(Timesheet!I38-Timesheet!H38)*24 -> 0
A39: 0.67708333 | D39: =(Timesheet!G39-Timesheet!F39)*24 -> 0 | E39: =(Timesheet!I39-Timesheet!H39)*24 -> 0
A40: 0.6875 | D40: =(Timesheet!G40-Timesheet!F40)*24 -> 0 | E40: =(Timesheet!I40-Timesheet!H40)*24 -> 0
A41: 0.69791667 | D41: =(Timesheet!G41-Timesheet!F41)*24 -> 0 | E41: =(Timesheet!I41-Timesheet!H41)*24 -> 0
A42: 0.70833333 | D42: =(Timesheet!G42-Timesheet!F42)*24 -> 0 | E42: =(Timesheet!I42-Timesheet!H42)*24 -> 0
A43: 0.71875
A44: 0.72916667
A45: 0.73958333 | D45: =(Timesheet!G45-Timesheet!F45)*24 -> 0 | E45: =(Timesheet!I45-Timesheet!H45)*24 -> 0
A46: 0.75 | D46: =(Timesheet!G46-Timesheet!F46)*24 -> 0 | E46: =(Timesheet!I46-Timesheet!H46)*24 -> 0
A47: 0.76041667 | D47: =(Timesheet!G47-Timesheet!F47)*24 -> 0 | E47: =(Timesheet!I47-Timesheet!H47)*24 -> 0
A48: 0.77083333 | D48: =(Timesheet!G48-Timesheet!F48)*24 -> 0 | E48: =(Timesheet!I48-Timesheet!H48)*24 -> 0
A49: 0.78125 | D49: =(Timesheet!G49-Timesheet!F49)*24 -> 0 | E49: =(Timesheet!I49-Timesheet!H49)*24 -> 0
A50: 0.79166667 | D50: =(Timesheet!G50-Timesheet!F50)*24 -> 0 | E50: =(Timesheet!I50-Timesheet!H50)*24 -> 0
A51: 0.80208333 | D51: =(Timesheet!G51-Timesheet!F51)*24 -> 0 | E51: =(Timesheet!I51-Timesheet!H51)*24 -> 0
A52: 0.8125
A53: 0.82291667
A54: 0.83333333
A55: 0.84375
A56: 0.85416667
A57: 0.86458333
A58: 0.875
A59: 0.88541667
A60: 0.89583333
A61: 0.90625
A62: 0.91666667
A63: 0.92708333
... A97: 0.28125

Sheet Timesheet
A1: CΛNYONS School District Timesheet
A2: Name | G2: Employee ID
A5: HOME BASE School or Department (Where you normally work) | D5: Location Where Work Was Performed (if different) | G5: Fund | H5: Location | I5: Program | J5: Function | K5: Object
A8: Week #1 | B8: Date | C8: Type of Work Performed | F8: Time In | G8: Lunch Starts | H8: Lunch Ends | I8: Time Out | J8: Regular Hrs | K8: Additional Hrs
A9: MON | J9: =+IF(AND($F9>0,$I9=0),"invalid entry",IF(AND($I9>0,$F9=0),"invalid entry",IF(AND($G9>0,$H9=0),"invalid entry",IF(AND($H9>0,$G9=0),"invalid entry",IF(AND(F9=0,G9=0,H9=0,I9=0),"",IF(L9>=8,8,L9)))))) | K9: =+IF(J9="invalid entry","",IF($J9="","",IF($J9=8,L9-J9,""))) | L9: =+IF(AND($G9<=0,$H9<=0),IF(($I9-$F9)*24>0,($I9-$F9)*24,IF(AND($F9=0,$I9=0),"",('Time Increments'!$C$5-$F9)*24+($I9-'Time Increments'!$C$6)*24)),IF(($I9-$F9)*24>0,'Time Increments'!$E9+'Time Increments'!$D9,IF((H9-G9)*24>0,('Time Increments'!$C$5-$F9)*24+($I9-'Time Increments'!$C$6)*24-($H9-$G9)*24,('Time Increments'!$C$5-$F9)*24+($I9-'Time Increments'!$C$6)*24)+(('Time Increments'!$C$6-$H9)+($G9-'Time Increments'!$C$5))*24))
A10: TUE | J10: =+IF(AND($F10>0,$I10=0),"invalid entry",IF(AND($I10>0,$F10=0),"invalid entry",IF(AND($G10>0,$H10=0),"invalid entry",IF(AND($H10>0,$G10=0),"invalid entry",IF(AND(F10=0,G10=0,H10=0,I10=0),"",IF(AND(SUM($J$9:$K9)>40,SUM($L$9:$L10)>40),"",IF(SUM($L$9:$L10)>40,IF(SUM($L$9:$L10)-SUM($J$9:$K9)>0,40-SUM($L$9:$L9),IF(L10>=8,8,L10)),IF(L10>=8,8,L10)))))))) | K10: =+IF(J10="invalid entry","",IF(AND(SUM($J$9:$K9)>40,SUM($L$9:$L10)>40),$L10,IF($J10="","",IF($J10=8,L10-J10,IF(AND($J10<8,$L10>0),$L10-$J10,""))))) | L10: =+IF(AND($G10<=0,$H10<=0),IF(($I10-$F10)*24>0,($I10-$F10)*24,IF(AND($F10=0,$I10=0),"",('Time Increments'!$C$5-$F10)*24+($I10-'Time Increments'!$C$6)*24)),IF(($I10-$F10)*24>0,'Time Increments'!$E10+'Time Increments'!$D10,IF((H10-G10)*24>0,('Time Increments'!$C$5-$F10)*24+($I10-'Time Increments'!$C$6)*24-($H10-$G10)*24,('Time Increments'!$C$5-$F10)*24+($I10-'Time Increments'!$C$6)*24)+(('Time Increments'!$C$6-$H10)+($G10-'Time Increments'!$C$5))*24))
A11: WED | J11: =+IF(AND($F11>0,$I11=0),"invalid entry",IF(AND($I11>0,$F11=0),"invalid entry",IF(AND($G11>0,$H11=0),"invalid entry",IF(AND($H11>0,$G11=0),"invalid entry",IF(AND(F11=0,G11=0,H11=0,I11=0),"",IF(AND(SUM($J$9:$K10)>40,SUM($L$9:$L11)>40),"",IF(SUM($L$9:$L11)>40,IF(SUM($L$9:$L11)-SUM($J$9:$K10)>0,40-SUM($L$9:$L10),IF(L11>=8,8,L11)),IF(L11>=8,8,L11)))))))) | K11: =+IF(J11="invalid entry","",IF(AND(SUM($J$9:$K10)>40,SUM($L$9:$L11)>40),$L11,IF($J11="","",IF($J11=8,L11-J11,IF(AND($J11<8,$L11>0),$L11-$J11,""))))) | L11: =+IF(AND($G11<=0,$H11<=0),IF(($I11-$F11)*24>0,($I11-$F11)*24,IF(AND($F11=0,$I11=0),"",('Time Increments'!$C$5-$F11)*24+($I11-'Time Increments'!$C$6)*24)),IF(($I11-$F11)*24>0,'Time Increments'!$E11+'Time Increments'!$D11,IF((H11-G11)*24>0,('Time Increments'!$C$5-$F11)*24+($I11-'Time Increments'!$C$6)*24-($H11-$G11)*24,('Time Increments'!$C$5-$F11)*24+($I11-'Time Increments'!$C$6)*24)+(('Time Increments'!$C$6-$H11)+($G11-'Time Increments'!$C$5))*24))
A12: THU | J12: =+IF(AND($F12>0,$I12=0),"invalid entry",IF(AND($I12>0,$F12=0),"invalid entry",IF(AND($G12>0,$H12=0),"invalid entry",IF(AND($H12>0,$G12=0),"invalid entry",IF(AND(F12=0,G12=0,H12=0,I12=0),"",IF(AND(SUM($J$9:$K11)>40,SUM($L$9:$L12)>40),"",IF(SUM($L$9:$L12)>40,IF(SUM($L$9:$L12)-SUM($J$9:$K11)>0,40-SUM($L$9:$L11),IF(L12>=8,8,L12)),IF(L12>=8,8,L12)))))))) | K12: =+IF(J12="invalid entry","",IF(AND(SUM($J$9:$K11)>40,SUM($L$9:$L12)>40),$L12,IF($J12="","",IF($J12=8,L12-J12,IF(AND($J12<8,$L12>0),$L12-$J12,""))))) | L12: =+IF(AND($G12<=0,$H12<=0),IF(($I12-$F12)*24>0,($I12-$F12)*24,IF(AND($F12=0,$I12=0),"",('Time Increments'!$C$5-$F12)*24+($I12-'Time Increments'!$C$6)*24)),IF(($I12-$F12)*24>0,'Time Increments'!$E12+'Time Increments'!$D12,IF((H12-G12)*24>0,('Time Increments'!$C$5-$F12)*24+($I12-'Time Increments'!$C$6)*24-($H12-$G12)*24,('Time Increments'!$C$5-$F12)*24+($I12-'Time Increments'!$C$6)*24)+(('Time Increments'!$C$6-$H12)+($G12-'Time Increments'!$C$5))*24))
A13: FRI | J13: =+IF(AND($F13>0,$I13=0),"invalid entry",IF(AND($I13>0,$F13=0),"invalid entry",IF(AND($G13>0,$H13=0),"invalid entry",IF(AND($H13>0,$G13=0),"invalid entry",IF(AND(F13=0,G13=0,H13=0,I13=0),"",IF(AND(SUM($J$9:$K12)>40,SUM($L$9:$L13)>40),"",IF(SUM($L$9:$L13)>40,IF(SUM($L$9:$L13)-SUM($J$9:$K12)>0,40-SUM($L$9:$L12),IF(L13>=8,8,L13)),IF(L13>=8,8,L13)))))))) | K13: =+IF(J13="invalid entry","",IF(AND(SUM($J$9:$K12)>40,SUM($L$9:$L13)>40),$L13,IF($J13="","",IF($J13=8,L13-J13,IF(AND($J13<8,$L13>0),$L13-$J13,""))))) | L13: =+IF(AND($G13<=0,$H13<=0),IF(($I13-$F13)*24>0,($I13-$F13)*24,IF(AND($F13=0,$I13=0),"",('Time Increments'!$C$5-$F13)*24+($I13-'Time Increments'!$C$6)*24)),IF(($I13-$F13)*24>0,'Time Increments'!$E13+'Time Increments'!$D13,IF((H13-G13)*24>0,('Time Increments'!$C$5-$F13)*24+($I13-'Time Increments'!$C$6)*24-($H13-$G13)*24,('Time Increments'!$C$5-$F13)*24+($I13-'Time Increments'!$C$6)*24)+(('Time Increments'!$C$6-$H13)+($G13-'Time Increments'!$C$5))*24))
A14: SAT | J14: =+IF(AND($F14>0,$I14=0),"invalid entry",IF(AND($I14>0,$F14=0),"invalid entry",IF(AND($G14>0,$H14=0),"invalid entry",IF(AND($H14>0,$G14=0),"invalid entry",IF(AND(F14=0,G14=0,H14=0,I14=0),"",IF(AND(SUM($J$9:$K13)>40,SUM($L$9:$L14)>40),"",IF(SUM($L$9:$L14)>40,IF(SUM($L$9:$L14)-SUM($J$9:$K13)>0,40-SUM($L$9:$L13),IF(L14>=8,8,L14)),IF(L14>=8,8,L14)))))))) | K14: =+IF(J14="invalid entry","",IF(AND(SUM($J$9:$K13)>40,SUM($L$9:$L14)>40),$L14,IF($J14="","",IF($J14=8,L14-J14,IF(AND($J14<8,$L14>0),$L14-$J14,""))))) | L14: =+IF(AND($G14<=0,$H14<=0),IF(($I14-$F14)*24>0,($I14-$F14)*24,IF(AND($F14=0,$I14=0),"",('Time Increments'!$C$5-$F14)*24+($I14-'Time Increments'!$C$6)*24)),IF(($I14-$F14)*24>0,'Time Increments'!$E14+'Time Increments'!$D14,IF((H14-G14)*24>0,('Time Increments'!$C$5-$F14)*24+($I14-'Time Increments'!$C$6)*24-($H14-$G14)*24,('Time Increments'!$C$5-$F14)*24+($I14-'Time Increments'!$C$6)*24)+(('Time Increments'!$C$6-$H14)+($G14-'Time Increments'!$C$5))*24))
A15: SUN | J15: =+IF(AND($F15>0,$I15=0),"invalid entry",IF(AND($I15>0,$F15=0),"invalid entry",IF(AND($G15>0,$H15=0),"invalid entry",IF(AND($H15>0,$G15=0),"invalid entry",IF(AND(F15=0,G15=0,H15=0,I15=0),"",IF(AND(SUM($J$9:$K14)>40,SUM($L$9:$L15)>40),"",IF(SUM($L$9:$L15)>40,IF(SUM($L$9:$L15)-SUM($J$9:$K14)>0,40-SUM($L$9:$L14),IF(L15>=8,8,L15)),IF(L15>=8,8,L15)))))))) | K15: =+IF(J15="invalid entry","",IF(AND(SUM($J$9:$K14)>40,SUM($L$9:$L15)>40),$L15,IF($J15="","",IF($J15=8,L15-J15,IF(AND($J15<8,$L15>0),$L15-$J15,""))))) | L15: =+IF(AND($G15<=0,$H15<=0),IF(($I15-$F15)*24>0,($I15-$F15)*24,IF(AND($F15=0,$I15=0),"",('Time Increments'!$C$5-$F15)*24+($I15-'Time Increments'!$C$6)*24)),IF(($I15-$F15)*24>0,'Time Increments'!$E15+'Time Increments'!$D15,IF((H15-G15)*24>0,('Time Increments'!$C$5-$F15)*24+($I15-'Time Increments'!$C$6)*24-($H15-$G15)*24,('Time Increments'!$C$5-$F15)*24+($I15-'Time Increments'!$C$6)*24)+(('Time Increments'!$C$6-$H15)+($G15-'Time Increments'!$C$5))*24))
A16: Week #2 | I16: Week Total | J16: =+IF(SUM($L9:$L15)>40,40,SUM($J9:$K15)) -> 0 | K16: =+IF(SUM($L9:$L15)>=40,SUM($L9:$L15)-40,"")
A18: MON | J18: =+IF(AND($F18>0,$I18=0),"invalid entry",IF(AND($I18>0,$F18=0),"invalid entry",IF(AND($G18>0,$H18=0),"invalid entry",IF(AND($H18>0,$G18=0),"invalid entry",IF(AND(F18=0,G18=0,H18=0,I18=0),"",IF(L18>=8,8,L18)))))) | K18: =+IF(J18="invalid entry","",IF($J18="","",IF($J18=8,L18-J18,""))) | L18: =+IF(AND($G18<=0,$H18<=0),IF(($I18-$F18)*24>0,($I18-$F18)*24,IF(AND($F18=0,$I18=0),"",('Time Increments'!$C$5-$F18)*24+($I18-'Time Increments'!$C$6)*24)),IF(($I18-$F18)*24>0,'Time Increments'!$E18+'Time Increments'!$D18,IF((H18-G18)*24>0,('Time Increments'!$C$5-$F18)*24+($I18-'Time Increments'!$C$6)*24-($H18-$G18)*24,('Time Increments'!$C$5-$F18)*24+($I18-'Time Increments'!$C$6)*24)+(('Time Increments'!$C$6-$H18)+($G18-'Time Increments'!$C$5))*24))
A19: TUE | J19: =+IF(AND($F19>0,$I19=0),"invalid entry",IF(AND($I19>0,$F19=0),"invalid entry",IF(AND($G19>0,$H19=0),"invalid entry",IF(AND($H19>0,$G19=0),"invalid entry",IF(AND(F19=0,G19=0,H19=0,I19=0),"",IF(AND(SUM($J$18:$K18)>40,SUM($L$18:$L19)>40),"",IF(SUM($L$18:$L19)>40,IF(SUM($L$18:$L19)-SUM($J$18:$K18)>0,40-SUM($L$18:$L18),IF(L19>=8,8,L19)),IF(L19>=8,8,L19)))))))) | K19: =+IF(J19="invalid entry","",IF(AND(SUM($J$18:$K18)>40,SUM($L$18:$L19)>40),$L19,IF($J19="","",IF($J19=8,L19-J19,IF(AND($J19<8,$L19>0),$L19-$J19,""))))) | L19: =+IF(AND($G19<=0,$H19<=0),IF(($I19-$F19)*24>0,($I19-$F19)*24,IF(AND($F19=0,$I19=0),"",('Time Increments'!$C$5-$F19)*24+($I19-'Time Increments'!$C$6)*24)),IF(($I19-$F19)*24>0,'Time Increments'!$E19+'Time Increments'!$D19,IF((H19-G19)*24>0,('Time Increments'!$C$5-$F19)*24+($I19-'Time Increments'!$C$6)*24-($H19-$G19)*24,('Time Increments'!$C$5-$F19)*24+($I19-'Time Increments'!$C$6)*24)+(('Time Increments'!$C$6-$H19)+($G19-'Time Increments'!$C$5))*24))
A20: WED | J20: =+IF(AND($F20>0,$I20=0),"invalid entry",IF(AND($I20>0,$F20=0),"invalid entry",IF(AND($G20>0,$H20=0),"invalid entry",IF(AND($H20>0,$G20=0),"invalid entry",IF(AND(F20=0,G20=0,H20=0,I20=0),"",IF(AND(SUM($J$18:$K19)>40,SUM($L$18:$L20)>40),"",IF(SUM($L$18:$L20)>40,IF(SUM($L$18:$L20)-SUM($J$18:$K19)>0,40-SUM($L$18:$L19),IF(L20>=8,8,L20)),IF(L20>=8,8,L20)))))))) | K20: =+IF(J20="invalid entry","",IF(AND(SUM($J$18:$K19)>40,SUM($L$18:$L20)>40),$L20,IF($J20="","",IF($J20=8,L20-J20,IF(AND($J20<8,$L20>0),$L20-$J20,""))))) | L20: =+IF(AND($G20<=0,$H20<=0),IF(($I20-$F20)*24>0,($I20-$F20)*24,IF(AND($F20=0,$I20=0),"",('Time Increments'!$C$5-$F20)*24+($I20-'Time Increments'!$C$6)*24)),IF(($I20-$F20)*24>0,'Time Increments'!$E20+'Time Increments'!$D20,IF((H20-G20)*24>0,('Time Increments'!$C$5-$F20)*24+($I20-'Time Increments'!$C$6)*24-($H20-$G20)*24,('Time Increments'!$C$5-$F20)*24+($I20-'Time Increments'!$C$6)*24)+(('Time Increments'!$C$6-$H20)+($G20-'Time Increments'!$C$5))*24))
A21: THU | J21: =+IF(AND($F21>0,$I21=0),"invalid entry",IF(AND($I21>0,$F21=0),"invalid entry",IF(AND($G21>0,$H21=0),"invalid entry",IF(AND($H21>0,$G21=0),"invalid entry",IF(AND(F21=0,G21=0,H21=0,I21=0),"",IF(AND(SUM($J$18:$K20)>40,SUM($L$18:$L21)>40),"",IF(SUM($L$18:$L21)>40,IF(SUM($L$18:$L21)-SUM($J$18:$K20)>0,40-SUM($L$18:$L20),IF(L21>=8,8,L21)),IF(L21>=8,8,L21)))))))) | K21: =+IF(J21="invalid entry","",IF(AND(SUM($J$18:$K20)>40,SUM($L$18:$L21)>40),$L21,IF($J21="","",IF($J21=8,L21-J21,IF(AND($J21<8,$L21>0),$L21-$J21,""))))) | L21: =+IF(AND($G21<=0,$H21<=0),IF(($I21-$F21)*24>0,($I21-$F21)*24,IF(AND($F21=0,$I21=0),"",('Time Increments'!$C$5-$F21)*24+($I21-'Time Increments'!$C$6)*24)),IF(($I21-$F21)*24>0,'Time Increments'!$E21+'Time Increments'!$D21,IF((H21-G21)*24>0,('Time Increments'!$C$5-$F21)*24+($I21-'Time Increments'!$C$6)*24-($H21-$G21)*24,('Time Increments'!$C$5-$F21)*24+($I21-'Time Increments'!$C$6)*24)+(('Time Increments'!$C$6-$H21)+($G21-'Time Increments'!$C$5))*24))
A22: FRI | J22: =+IF(AND($F22>0,$I22=0),"invalid entry",IF(AND($I22>0,$F22=0),"invalid entry",IF(AND($G22>0,$H22=0),"invalid entry",IF(AND($H22>0,$G22=0),"invalid entry",IF(AND(F22=0,G22=0,H22=0,I22=0),"",IF(AND(SUM($J$18:$K21)>40,SUM($L$18:$L22)>40),"",IF(SUM($L$18:$L22)>40,IF(SUM($L$18:$L22)-SUM($J$18:$K21)>0,40-SUM($L$18:$L21),IF(L22>=8,8,L22)),IF(L22>=8,8,L22)))))))) | K22: =+IF(J22="invalid entry","",IF(AND(SUM($J$18:$K21)>40,SUM($L$18:$L22)>40),$L22,IF($J22="","",IF($J22=8,L22-J22,IF(AND($J22<8,$L22>0),$L22-$J22,""))))) | L22: =+IF(AND($G22<=0,$H22<=0),IF(($I22-$F22)*24>0,($I22-$F22)*24,IF(AND($F22=0,$I22=0),"",('Time Increments'!$C$5-$F22)*24+($I22-'Time Increments'!$C$6)*24)),IF(($I22-$F22)*24>0,'Time Increments'!$E22+'Time Increments'!$D22,IF((H22-G22)*24>0,('Time Increments'!$C$5-$F22)*24+($I22-'Time Increments'!$C$6)*24-($H22-$G22)*24,('Time Increments'!$C$5-$F22)*24+($I22-'Time Increments'!$C$6)*24)+(('Time Increments'!$C$6-$H22)+($G22-'Time Increments'!$C$5))*24))
A23: SAT | J23: =+IF(AND($F23>0,$I23=0),"invalid entry",IF(AND($I23>0,$F23=0),"invalid entry",IF(AND($G23>0,$H23=0),"invalid entry",IF(AND($H23>0,$G23=0),"invalid entry",IF(AND(F23=0,G23=0,H23=0,I23=0),"",IF(AND(SUM($J$18:$K22)>40,SUM($L$18:$L23)>40),"",IF(SUM($L$18:$L23)>40,IF(SUM($L$18:$L23)-SUM($J$18:$K22)>0,40-SUM($L$18:$L22),IF(L23>=8,8,L23)),IF(L23>=8,8,L23)))))))) | K23: =+IF(J23="invalid entry","",IF(AND(SUM($J$18:$K22)>40,SUM($L$18:$L23)>40),$L23,IF($J23="","",IF($J23=8,L23-J23,IF(AND($J23<8,$L23>0),$L23-$J23,""))))) | L23: =+IF(AND($G23<=0,$H23<=0),IF(($I23-$F23)*24>0,($I23-$F23)*24,IF(AND($F23=0,$I23=0),"",('Time Increments'!$C$5-$F23)*24+($I23-'Time Increments'!$C$6)*24)),IF(($I23-$F23)*24>0,'Time Increments'!$E23+'Time Increments'!$D23,IF((H23-G23)*24>0,('Time Increments'!$C$5-$F23)*24+($I23-'Time Increments'!$C$6)*24-($H23-$G23)*24,('Time Increments'!$C$5-$F23)*24+($I23-'Time Increments'!$C$6)*24)+(('Time Increments'!$C$6-$H23)+($G23-'Time Increments'!$C$5))*24))
A24: SUN | J24: =+IF(AND($F24>0,$I24=0),"invalid entry",IF(AND($I24>0,$F24=0),"invalid entry",IF(AND($G24>0,$H24=0),"invalid entry",IF(AND($H24>0,$G24=0),"invalid entry",IF(AND(F24=0,G24=0,H24=0,I24=0),"",IF(AND(SUM($J$18:$K23)>40,SUM($L$18:$L24)>40),"",IF(SUM($L$18:$L24)>40,IF(SUM($L$18:$L24)-SUM($J$18:$K23)>0,40-SUM($L$18:$L23),IF(L24>=8,8,L24)),IF(L24>=8,8,L24)))))))) | K24: =+IF(J24="invalid entry","",IF(AND(SUM($J$18:$K23)>40,SUM($L$18:$L24)>40),$L24,IF($J24="","",IF($J24=8,L24-J24,IF(AND($J24<8,$L24>0),$L24-$J24,""))))) | L24: =+IF(AND($G24<=0,$H24<=0),IF(($I24-$F24)*24>0,($I24-$F24)*24,IF(AND($F24=0,$I24=0),"",('Time Increments'!$C$5-$F24)*24+($I24-'Time Increments'!$C$6)*24)),IF(($I24-$F24)*24>0,'Time Increments'!$E24+'Time Increments'!$D24,IF((H24-G24)*24>0,('Time Increments'!$C$5-$F24)*24+($I24-'Time Increments'!$C$6)*24-($H24-$G24)*24,('Time Increments'!$C$5-$F24)*24+($I24-'Time Increments'!$C$6)*24)+(('Time Increments'!$C$6-$H24)+($G24-'Time Increments'!$C$5))*24))
A25: Week #3 | I25: Week Total | J25: =+IF(SUM($L18:$L24)>40,40,SUM($J18:$K24)) -> 0 | K25: =+IF(SUM($L18:$L24)>=40,SUM($L18:$L24)-40,"")
A27: MON | J27: =+IF(AND($F27>0,$I27=0),"invalid entry",IF(AND($I27>0,$F27=0),"invalid entry",IF(AND($G27>0,$H27=0),"invalid entry",IF(AND($H27>0,$G27=0),"invalid entry",IF(AND(F27=0,G27=0,H27=0,I27=0),"",IF(L27>=8,8,L27)))))) | K27: =+IF(J27="invalid entry","",IF($J27="","",IF($J27=8,L27-J27,""))) | L27: =+IF(AND($G27<=0,$H27<=0),IF(($I27-$F27)*24>0,($I27-$F27)*24,IF(AND($F27=0,$I27=0),"",('Time Increments'!$C$5-$F27)*24+($I27-'Time Increments'!$C$6)*24)),IF(($I27-$F27)*24>0,'Time Increments'!$E27+'Time Increments'!$D27,IF((H27-G27)*24>0,('Time Increments'!$C$5-$F27)*24+($I27-'Time Increments'!$C$6)*24-($H27-$G27)*24,('Time Increments'!$C$5-$F27)*24+($I27-'Time Increments'!$C$6)*24)+(('Time Increments'!$C$6-$H27)+($G27-'Time Increments'!$C$5))*24))
A28: TUE | J28: =+IF(AND($F28>0,$I28=0),"invalid entry",IF(AND($I28>0,$F28=0),"invalid entry",IF(AND($G28>0,$H28=0),"invalid entry",IF(AND($H28>0,$G28=0),"invalid entry",IF(AND(F28=0,G28=0,H28=0,I28=0),"",IF(AND(SUM($J$27:$K27)>40,SUM($L$27:$L28)>40),"",IF(SUM($L$27:$L28)>40,IF(SUM($L$27:$L28)-SUM($J$27:$K27)>0,40-SUM($L$27:$L27),IF(L28>=8,8,L28)),IF(L28>=8,8,L28)))))))) | K28: =+IF(J28="invalid entry","",IF(AND(SUM($J$27:$K27)>40,SUM($L$27:$L28)>40),$L28,IF($J28="","",IF($J28=8,L28-J28,IF(AND($J28<8,$L28>0),$L28-$J28,""))))) | L28: =+IF(AND($G28<=0,$H28<=0),IF(($I28-$F28)*24>0,($I28-$F28)*24,IF(AND($F28=0,$I28=0),"",('Time Increments'!$C$5-$F28)*24+($I28-'Time Increments'!$C$6)*24)),IF(($I28-$F28)*24>0,'Time Increments'!$E28+'Time Increments'!$D28,IF((H28-G28)*24>0,('Time Increments'!$C$5-$F28)*24+($I28-'Time Increments'!$C$6)*24-($H28-$G28)*24,('Time Increments'!$C$5-$F28)*24+($I28-'Time Increments'!$C$6)*24)+(('Time Increments'!$C$6-$H28)+($G28-'Time Increments'!$C$5))*24))
A29: WED | J29: =+IF(AND($F29>0,$I29=0),"invalid entry",IF(AND($I29>0,$F29=0),"invalid entry",IF(AND($G29>0,$H29=0),"invalid entry",IF(AND($H29>0,$G29=0),"invalid entry",IF(AND(F29=0,G29=0,H29=0,I29=0),"",IF(AND(SUM($J$27:$K28)>40,SUM($L$27:$L29)>40),"",IF(SUM($L$27:$L29)>40,IF(SUM($L$27:$L29)-SUM($J$27:$K28)>0,40-SUM($L$27:$L28),IF(L29>=8,8,L29)),IF(L29>=8,8,L29)))))))) | K29: =+IF(J29="invalid entry","",IF(AND(SUM($J$27:$K28)>40,SUM($L$27:$L29)>40),$L29,IF($J29="","",IF($J29=8,L29-J29,IF(AND($J29<8,$L29>0),$L29-$J29,""))))) | L29: =+IF(AND($G29<=0,$H29<=0),IF(($I29-$F29)*24>0,($I29-$F29)*24,IF(AND($F29=0,$I29=0),"",('Time Increments'!$C$5-$F29)*24+($I29-'Time Increments'!$C$6)*24)),IF(($I29-$F29)*24>0,'Time Increments'!$E29+'Time Increments'!$D29,IF((H29-G29)*24>0,('Time Increments'!$C$5-$F29)*24+($I29-'Time Increments'!$C$6)*24-($H29-$G29)*24,('Time Increments'!$C$5-$F29)*24+($I29-'Time Increments'!$C$6)*24)+(('Time Increments'!$C$6-$H29)+($G29-'Time Increments'!$C$5))*24))
A30: THU | J30: =+IF(AND($F30>0,$I30=0),"invalid entry",IF(AND($I30>0,$F30=0),"invalid entry",IF(AND($G30>0,$H30=0),"invalid entry",IF(AND($H30>0,$G30=0),"invalid entry",IF(AND(F30=0,G30=0,H30=0,I30=0),"",IF(AND(SUM($J$27:$K29)>40,SUM($L$27:$L30)>40),"",IF(SUM($L$27:$L30)>40,IF(SUM($L$27:$L30)-SUM($J$27:$K29)>0,40-SUM($L$27:$L29),IF(L30>=8,8,L30)),IF(L30>=8,8,L30)))))))) | K30: =+IF(J30="invalid entry","",IF(AND(SUM($J$27:$K29)>40,SUM($L$27:$L30)>40),$L30,IF($J30="","",IF($J30=8,L30-J30,IF(AND($J30<8,$L30>0),$L30-$J30,""))))) | L30: =+IF(AND($G30<=0,$H30<=0),IF(($I30-$F30)*24>0,($I30-$F30)*24,IF(AND($F30=0,$I30=0),"",('Time Increments'!$C$5-$F30)*24+($I30-'Time Increments'!$C$6)*24)),IF(($I30-$F30)*24>0,'Time Increments'!$E30+'Time Increments'!$D30,IF((H30-G30)*24>0,('Time Increments'!$C$5-$F30)*24+($I30-'Time Increments'!$C$6)*24-($H30-$G30)*24,('Time Increments'!$C$5-$F30)*24+($I30-'Time Increments'!$C$6)*24)+(('Time Increments'!$C$6-$H30)+($G30-'Time Increments'!$C$5))*24))
A31: FRI | J31: =+IF(AND($F31>0,$I31=0),"invalid entry",IF(AND($I31>0,$F31=0),"invalid entry",IF(AND($G31>0,$H31=0),"invalid entry",IF(AND($H31>0,$G31=0),"invalid entry",IF(AND(F31=0,G31=0,H31=0,I31=0),"",IF(AND(SUM($J$27:$K30)>40,SUM($L$27:$L31)>40),"",IF(SUM($L$27:$L31)>40,IF(SUM($L$27:$L31)-SUM($J$27:$K30)>0,40-SUM($L$27:$L30),IF(L31>=8,8,L31)),IF(L31>=8,8,L31)))))))) | K31: =+IF(J31="invalid entry","",IF(AND(SUM($J$27:$K30)>40,SUM($L$27:$L31)>40),$L31,IF($J31="","",IF($J31=8,L31-J31,IF(AND($J31<8,$L31>0),$L31-$J31,""))))) | L31: =+IF(AND($G31<=0,$H31<=0),IF(($I31-$F31)*24>0,($I31-$F31)*24,IF(AND($F31=0,$I31=0),"",('Time Increments'!$C$5-$F31)*24+($I31-'Time Increments'!$C$6)*24)),IF(($I31-$F31)*24>0,'Time Increments'!$E31+'Time Increments'!$D31,IF((H31-G31)*24>0,('Time Increments'!$C$5-$F31)*24+($I31-'Time Increments'!$C$6)*24-($H31-$G31)*24,('Time Increments'!$C$5-$F31)*24+($I31-'Time Increments'!$C$6)*24)+(('Time Increments'!$C$6-$H31)+($G31-'Time Increments'!$C$5))*24))
A32: SAT | J32: =+IF(AND($F32>0,$I32=0),"invalid entry",IF(AND($I32>0,$F32=0),"invalid entry",IF(AND($G32>0,$H32=0),"invalid entry",IF(AND($H32>0,$G32=0),"invalid entry",IF(AND(F32=0,G32=0,H32=0,I32=0),"",IF(AND(SUM($J$27:$K31)>40,SUM($L$27:$L32)>40),"",IF(SUM($L$27:$L32)>40,IF(SUM($L$27:$L32)-SUM($J$27:$K31)>0,40-SUM($L$27:$L31),IF(L32>=8,8,L32)),IF(L32>=8,8,L32)))))))) | K32: =+IF(J32="invalid entry","",IF(AND(SUM($J$27:$K31)>40,SUM($L$27:$L32)>40),$L32,IF($J32="","",IF($J32=8,L32-J32,IF(AND($J32<8,$L32>0),$L32-$J32,""))))) | L32: =+IF(AND($G32<=0,$H32<=0),IF(($I32-$F32)*24>0,($I32-$F32)*24,IF(AND($F32=0,$I32=0),"",('Time Increments'!$C$5-$F32)*24+($I32-'Time Increments'!$C$6)*24)),IF(($I32-$F32)*24>0,'Time Increments'!$E32+'Time Increments'!$D32,IF((H32-G32)*24>0,('Time Increments'!$C$5-$F32)*24+($I32-'Time Increments'!$C$6)*24-($H32-$G32)*24,('Time Increments'!$C$5-$F32)*24+($I32-'Time Increments'!$C$6)*24)+(('Time Increments'!$C$6-$H32)+($G32-'Time Increments'!$C$5))*24))
A33: SUN | J33: =+IF(AND($F33>0,$I33=0),"invalid entry",IF(AND($I33>0,$F33=0),"invalid entry",IF(AND($G33>0,$H33=0),"invalid entry",IF(AND($H33>0,$G33=0),"invalid entry",IF(AND(F33=0,G33=0,H33=0,I33=0),"",IF(AND(SUM($J$27:$K32)>40,SUM($L$27:$L33)>40),"",IF(SUM($L$27:$L33)>40,IF(SUM($L$27:$L33)-SUM($J$27:$K32)>0,40-SUM($L$27:$L32),IF(L33>=8,8,L33)),IF(L33>=8,8,L33)))))))) | K33: =+IF(J33="invalid entry","",IF(AND(SUM($J$27:$K32)>40,SUM($L$27:$L33)>40),$L33,IF($J33="","",IF($J33=8,L33-J33,IF(AND($J33<8,$L33>0),$L33-$J33,""))))) | L33: =+IF(AND($G33<=0,$H33<=0),IF(($I33-$F33)*24>0,($I33-$F33)*24,IF(AND($F33=0,$I33=0),"",('Time Increments'!$C$5-$F33)*24+($I33-'Time Increments'!$C$6)*24)),IF(($I33-$F33)*24>0,'Time Increments'!$E33+'Time Increments'!$D33,IF((H33-G33)*24>0,('Time Increments'!$C$5-$F33)*24+($I33-'Time Increments'!$C$6)*24-($H33-$G33)*24,('Time Increments'!$C$5-$F33)*24+($I33-'Time Increments'!$C$6)*24)+(('Time Increments'!$C$6-$H33)+($G33-'Time Increments'!$C$5))*24))
A34: Week #4 | I34: Week Total | J34: =+IF(SUM($L27:$L33)>40,40,SUM($J27:$K33)) -> 0 | K34: =+IF(SUM($L27:$L33)>=40,SUM($L27:$L33)-40,"")
A36: MON | J36: =+IF(AND($F36>0,$I36=0),"invalid entry",IF(AND($I36>0,$F36=0),"invalid entry",IF(AND($G36>0,$H36=0),"invalid entry",IF(AND($H36>0,$G36=0),"invalid entry",IF(AND(F36=0,G36=0,H36=0,I36=0),"",IF(L36>=8,8,L36)))))) | K36: =+IF(J36="invalid entry","",IF($J36="","",IF($J36=8,L36-J36,""))) | L36: =+IF(AND($G36<=0,$H36<=0),IF(($I36-$F36)*24>0,($I36-$F36)*24,IF(AND($F36=0,$I36=0),"",('Time Increments'!$C$5-$F36)*24+($I36-'Time Increments'!$C$6)*24)),IF(($I36-$F36)*24>0,'Time Increments'!$E36+'Time Increments'!$D36,IF((H36-G36)*24>0,('Time Increments'!$C$5-$F36)*24+($I36-'Time Increments'!$C$6)*24-($H36-$G36)*24,('Time Increments'!$C$5-$F36)*24+($I36-'Time Increments'!$C$6)*24)+(('Time Increments'!$C$6-$H36)+($G36-'Time Increments'!$C$5))*24))
A37: TUE | J37: =+IF(AND($F37>0,$I37=0),"invalid entry",IF(AND($I37>0,$F37=0),"invalid entry",IF(AND($G37>0,$H37=0),"invalid entry",IF(AND($H37>0,$G37=0),"invalid entry",IF(AND(F37=0,G37=0,H37=0,I37=0),"",IF(AND(SUM($J$36:$K36)>40,SUM($L$36:$L37)>40),"",IF(SUM($L$36:$L37)>40,IF(SUM($L$36:$L37)-SUM($J$36:$K36)>0,40-SUM($L$36:$L36),IF(L37>=8,8,L37)),IF(L37>=8,8,L37)))))))) | K37: =+IF(J37="invalid entry","",IF(AND(SUM($J$36:$K36)>40,SUM($L$36:$L37)>40),$L37,IF($J37="","",IF($J37=8,L37-J37,IF(AND($J37<8,$L37>0),$L37-$J37,""))))) | L37: =+IF(AND($G37<=0,$H37<=0),IF(($I37-$F37)*24>0,($I37-$F37)*24,IF(AND($F37=0,$I37=0),"",('Time Increments'!$C$5-$F37)*24+($I37-'Time Increments'!$C$6)*24)),IF(($I37-$F37)*24>0,'Time Increments'!$E37+'Time Increments'!$D37,IF((H37-G37)*24>0,('Time Increments'!$C$5-$F37)*24+($I37-'Time Increments'!$C$6)*24-($H37-$G37)*24,('Time Increments'!$C$5-$F37)*24+($I37-'Time Increments'!$C$6)*24)+(('Time Increments'!$C$6-$H37)+($G37-'Time Increments'!$C$5))*24))
A38: WED | J38: =+IF(AND($F38>0,$I38=0),"invalid entry",IF(AND($I38>0,$F38=0),"invalid entry",IF(AND($G38>0,$H38=0),"invalid entry",IF(AND($H38>0,$G38=0),"invalid entry",IF(AND(F38=0,G38=0,H38=0,I38=0),"",IF(AND(SUM($J$36:$K37)>40,SUM($L$36:$L38)>40),"",IF(SUM($L$36:$L38)>40,IF(SUM($L$36:$L38)-SUM($J$36:$K37)>0,40-SUM($L$36:$L37),IF(L38>=8,8,L38)),IF(L38>=8,8,L38)))))))) | K38: =+IF(J38="invalid entry","",IF(AND(SUM($J$36:$K37)>40,SUM($L$36:$L38)>40),$L38,IF($J38="","",IF($J38=8,L38-J38,IF(AND($J38<8,$L38>0),$L38-$J38,""))))) | L38: =+IF(AND($G38<=0,$H38<=0),IF(($I38-$F38)*24>0,($I38-$F38)*24,IF(AND($F38=0,$I38=0),"",('Time Increments'!$C$5-$F38)*24+($I38-'Time Increments'!$C$6)*24)),IF(($I38-$F38)*24>0,'Time Increments'!$E38+'Time Increments'!$D38,IF((H38-G38)*24>0,('Time Increments'!$C$5-$F38)*24+($I38-'Time Increments'!$C$6)*24-($H38-$G38)*24,('Time Increments'!$C$5-$F38)*24+($I38-'Time Increments'!$C$6)*24)+(('Time Increments'!$C$6-$H38)+($G38-'Time Increments'!$C$5))*24))
A39: THU | J39: =+IF(AND($F39>0,$I39=0),"invalid entry",IF(AND($I39>0,$F39=0),"invalid entry",IF(AND($G39>0,$H39=0),"invalid entry",IF(AND($H39>0,$G39=0),"invalid entry",IF(AND(F39=0,G39=0,H39=0,I39=0),"",IF(AND(SUM($J$36:$K38)>40,SUM($L$36:$L39)>40),"",IF(SUM($L$36:$L39)>40,IF(SUM($L$36:$L39)-SUM($J$36:$K38)>0,40-SUM($L$36:$L38),IF(L39>=8,8,L39)),IF(L39>=8,8,L39)))))))) | K39: =+IF(J39="invalid entry","",IF(AND(SUM($J$36:$K38)>40,SUM($L$36:$L39)>40),$L39,IF($J39="","",IF($J39=8,L39-J39,IF(AND($J39<8,$L39>0),$L39-$J39,""))))) | L39: =+IF(AND($G39<=0,$H39<=0),IF(($I39-$F39)*24>0,($I39-$F39)*24,IF(AND($F39=0,$I39=0),"",('Time Increments'!$C$5-$F39)*24+($I39-'Time Increments'!$C$6)*24)),IF(($I39-$F39)*24>0,'Time Increments'!$E39+'Time Increments'!$D39,IF((H39-G39)*24>0,('Time Increments'!$C$5-$F39)*24+($I39-'Time Increments'!$C$6)*24-($H39-$G39)*24,('Time Increments'!$C$5-$F39)*24+($I39-'Time Increments'!$C$6)*24)+(('Time Increments'!$C$6-$H39)+($G39-'Time Increments'!$C$5))*24))
A40: FRI | J40: =+IF(AND($F40>0,$I40=0),"invalid entry",IF(AND($I40>0,$F40=0),"invalid entry",IF(AND($G40>0,$H40=0),"invalid entry",IF(AND($H40>0,$G40=0),"invalid entry",IF(AND(F40=0,G40=0,H40=0,I40=0),"",IF(AND(SUM($J$36:$K39)>40,SUM($L$36:$L40)>40),"",IF(SUM($L$36:$L40)>40,IF(SUM($L$36:$L40)-SUM($J$36:$K39)>0,40-SUM($L$36:$L39),IF(L40>=8,8,L40)),IF(L40>=8,8,L40)))))))) | K40: =+IF(J40="invalid entry","",IF(AND(SUM($J$36:$K39)>40,SUM($L$36:$L40)>40),$L40,IF($J40="","",IF($J40=8,L40-J40,IF(AND($J40<8,$L40>0),$L40-$J40,""))))) | L40: =+IF(AND($G40<=0,$H40<=0),IF(($I40-$F40)*24>0,($I40-$F40)*24,IF(AND($F40=0,$I40=0),"",('Time Increments'!$C$5-$F40)*24+($I40-'Time Increments'!$C$6)*24)),IF(($I40-$F40)*24>0,'Time Increments'!$E40+'Time Increments'!$D40,IF((H40-G40)*24>0,('Time Increments'!$C$5-$F40)*24+($I40-'Time Increments'!$C$6)*24-($H40-$G40)*24,('Time Increments'!$C$5-$F40)*24+($I40-'Time Increments'!$C$6)*24)+(('Time Increments'!$C$6-$H40)+($G40-'Time Increments'!$C$5))*24))
A41: SAT | J41: =+IF(AND($F41>0,$I41=0),"invalid entry",IF(AND($I41>0,$F41=0),"invalid entry",IF(AND($G41>0,$H41=0),"invalid entry",IF(AND($H41>0,$G41=0),"invalid entry",IF(AND(F41=0,G41=0,H41=0,I41=0),"",IF(AND(SUM($J$36:$K40)>40,SUM($L$36:$L41)>40),"",IF(SUM($L$36:$L41)>40,IF(SUM($L$36:$L41)-SUM($J$36:$K40)>0,40-SUM($L$36:$L40),IF(L41>=8,8,L41)),IF(L41>=8,8,L41)))))))) | K41: =+IF(J41="invalid entry","",IF(AND(SUM($J$36:$K40)>40,SUM($L$36:$L41)>40),$L41,IF($J41="","",IF($J41=8,L41-J41,IF(AND($J41<8,$L41>0),$L41-$J41,""))))) | L41: =+IF(AND($G41<=0,$H41<=0),IF(($I41-$F41)*24>0,($I41-$F41)*24,IF(AND($F41=0,$I41=0),"",('Time Increments'!$C$5-$F41)*24+($I41-'Time Increments'!$C$6)*24)),IF(($I41-$F41)*24>0,'Time Increments'!$E41+'Time Increments'!$D41,IF((H41-G41)*24>0,('Time Increments'!$C$5-$F41)*24+($I41-'Time Increments'!$C$6)*24-($H41-$G41)*24,('Time Increments'!$C$5-$F41)*24+($I41-'Time Increments'!$C$6)*24)+(('Time Increments'!$C$6-$H41)+($G41-'Time Increments'!$C$5))*24))
A42: SUN | J42: =+IF(AND($F42>0,$I42=0),"invalid entry",IF(AND($I42>0,$F42=0),"invalid entry",IF(AND($G42>0,$H42=0),"invalid entry",IF(AND($H42>0,$G42=0),"invalid entry",IF(AND(F42=0,G42=0,H42=0,I42=0),"",IF(AND(SUM($J$36:$K41)>40,SUM($L$36:$L42)>40),"",IF(SUM($L$36:$L42)>40,IF(SUM($L$36:$L42)-SUM($J$36:$K41)>0,40-SUM($L$36:$L41),IF(L42>=8,8,L42)),IF(L42>=8,8,L42)))))))) | K42: =+IF(J42="invalid entry","",IF(AND(SUM($J$36:$K41)>40,SUM($L$36:$L42)>40),$L42,IF($J42="","",IF($J42=8,L42-J42,IF(AND($J42<8,$L42>0),$L42-$J42,""))))) | L42: =+IF(AND($G42<=0,$H42<=0),IF(($I42-$F42)*24>0,($I42-$F42)*24,IF(AND($F42=0,$I42=0),"",('Time Increments'!$C$5-$F42)*24+($I42-'Time Increments'!$C$6)*24)),IF(($I42-$F42)*24>0,'Time Increments'!$E42+'Time Increments'!$D42,IF((H42-G42)*24>0,('Time Increments'!$C$5-$F42)*24+($I42-'Time Increments'!$C$6)*24-($H42-$G42)*24,('Time Increments'!$C$5-$F42)*24+($I42-'Time Increments'!$C$6)*24)+(('Time Increments'!$C$6-$H42)+($G42-'Time Increments'!$C$5))*24))
A43: Week #5 | I43: Week Total | J43: =+IF(SUM($L36:$L42)>40,40,SUM($J36:$K42)) -> 0 | K43: =+IF(SUM($L36:$L42)>=40,SUM($L36:$L42)-40,"")
A45: MON | J45: =+IF(AND($F45>0,$I45=0),"invalid entry",IF(AND($I45>0,$F45=0),"invalid entry",IF(AND($G45>0,$H45=0),"invalid entry",IF(AND($H45>0,$G45=0),"invalid entry",IF(AND(F45=0,G45=0,H45=0,I45=0),"",IF(L45>=8,8,L45)))))) | K45: =+IF(J45="invalid entry","",IF($J45="","",IF($J45=8,L45-J45,""))) | L45: =+IF(AND($G45<=0,$H45<=0),IF(($I45-$F45)*24>0,($I45-$F45)*24,IF(AND($F45=0,$I45=0),"",('Time Increments'!$C$5-$F45)*24+($I45-'Time Increments'!$C$6)*24)),IF(($I45-$F45)*24>0,'Time Increments'!$E45+'Time Increments'!$D45,IF((H45-G45)*24>0,('Time Increments'!$C$5-$F45)*24+($I45-'Time Increments'!$C$6)*24-($H45-$G45)*24,('Time Increments'!$C$5-$F45)*24+($I45-'Time Increments'!$C$6)*24)+(('Time Increments'!$C$6-$H45)+($G45-'Time Increments'!$C$5))*24))
A46: TUE | J46: =+IF(AND($F46>0,$I46=0),"invalid entry",IF(AND($I46>0,$F46=0),"invalid entry",IF(AND($G46>0,$H46=0),"invalid entry",IF(AND($H46>0,$G46=0),"invalid entry",IF(AND(F46=0,G46=0,H46=0,I46=0),"",IF(AND(SUM($J$45:$K45)>40,SUM($L$45:$L46)>40),"",IF(SUM($L$45:$L46)>40,IF(SUM($L$45:$L46)-SUM($J$45:$K45)>0,40-SUM($L$45:$L45),IF(L46>=8,8,L46)),IF(L46>=8,8,L46)))))))) | K46: =+IF(J46="invalid entry","",IF(AND(SUM($J$45:$K45)>40,SUM($L$45:$L46)>40),$L46,IF($J46="","",IF($J46=8,L46-J46,IF(AND($J46<8,$L46>0),$L46-$J46,""))))) | L46: =+IF(AND($G46<=0,$H46<=0),IF(($I46-$F46)*24>0,($I46-$F46)*24,IF(AND($F46=0,$I46=0),"",('Time Increments'!$C$5-$F46)*24+($I46-'Time Increments'!$C$6)*24)),IF(($I46-$F46)*24>0,'Time Increments'!$E46+'Time Increments'!$D46,IF((H46-G46)*24>0,('Time Increments'!$C$5-$F46)*24+($I46-'Time Increments'!$C$6)*24-($H46-$G46)*24,('Time Increments'!$C$5-$F46)*24+($I46-'Time Increments'!$C$6)*24)+(('Time Increments'!$C$6-$H46)+($G46-'Time Increments'!$C$5))*24))
A47: WED | J47: =+IF(AND($F47>0,$I47=0),"invalid entry",IF(AND($I47>0,$F47=0),"invalid entry",IF(AND($G47>0,$H47=0),"invalid entry",IF(AND($H47>0,$G47=0),"invalid entry",IF(AND(F47=0,G47=0,H47=0,I47=0),"",IF(AND(SUM($J$45:$K46)>40,SUM($L$45:$L47)>40),"",IF(SUM($L$45:$L47)>40,IF(SUM($L$45:$L47)-SUM($J$45:$K46)>0,40-SUM($L$45:$L46),IF(L47>=8,8,L47)),IF(L47>=8,8,L47)))))))) | K47: =+IF(J47="invalid entry","",IF(AND(SUM($J$45:$K46)>40,SUM($L$45:$L47)>40),$L47,IF($J47="","",IF($J47=8,L47-J47,IF(AND($J47<8,$L47>0),$L47-$J47,""))))) | L47: =+IF(AND($G47<=0,$H47<=0),IF(($I47-$F47)*24>0,($I47-$F47)*24,IF(AND($F47=0,$I47=0),"",('Time Increments'!$C$5-$F47)*24+($I47-'Time Increments'!$C$6)*24)),IF(($I47-$F47)*24>0,'Time Increments'!$E47+'Time Increments'!$D47,IF((H47-G47)*24>0,('Time Increments'!$C$5-$F47)*24+($I47-'Time Increments'!$C$6)*24-($H47-$G47)*24,('Time Increments'!$C$5-$F47)*24+($I47-'Time Increments'!$C$6)*24)+(('Time Increments'!$C$6-$H47)+($G47-'Time Increments'!$C$5))*24))
A48: THU | J48: =+IF(AND($F48>0,$I48=0),"invalid entry",IF(AND($I48>0,$F48=0),"invalid entry",IF(AND($G48>0,$H48=0),"invalid entry",IF(AND($H48>0,$G48=0),"invalid entry",IF(AND(F48=0,G48=0,H48=0,I48=0),"",IF(AND(SUM($J$45:$K47)>40,SUM($L$45:$L48)>40),"",IF(SUM($L$45:$L48)>40,IF(SUM($L$45:$L48)-SUM($J$45:$K47)>0,40-SUM($L$45:$L47),IF(L48>=8,8,L48)),IF(L48>=8,8,L48)))))))) | K48: =+IF(J48="invalid entry","",IF(AND(SUM($J$45:$K47)>40,SUM($L$45:$L48)>40),$L48,IF($J48="","",IF($J48=8,L48-J48,IF(AND($J48<8,$L48>0),$L48-$J48,""))))) | L48: =+IF(AND($G48<=0,$H48<=0),IF(($I48-$F48)*24>0,($I48-$F48)*24,IF(AND($F48=0,$I48=0),"",('Time Increments'!$C$5-$F48)*24+($I48-'Time Increments'!$C$6)*24)),IF(($I48-$F48)*24>0,'Time Increments'!$E48+'Time Increments'!$D48,IF((H48-G48)*24>0,('Time Increments'!$C$5-$F48)*24+($I48-'Time Increments'!$C$6)*24-($H48-$G48)*24,('Time Increments'!$C$5-$F48)*24+($I48-'Time Increments'!$C$6)*24)+(('Time Increments'!$C$6-$H48)+($G48-'Time Increments'!$C$5))*24))
A49: FRI | J49: =+IF(AND($F49>0,$I49=0),"invalid entry",IF(AND($I49>0,$F49=0),"invalid entry",IF(AND($G49>0,$H49=0),"invalid entry",IF(AND($H49>0,$G49=0),"invalid entry",IF(AND(F49=0,G49=0,H49=0,I49=0),"",IF(AND(SUM($J$45:$K48)>40,SUM($L$45:$L49)>40),"",IF(SUM($L$45:$L49)>40,IF(SUM($L$45:$L49)-SUM($J$45:$K48)>0,40-SUM($L$45:$L48),IF(L49>=8,8,L49)),IF(L49>=8,8,L49)))))))) | K49: =+IF(J49="invalid entry","",IF(AND(SUM($J$45:$K48)>40,SUM($L$45:$L49)>40),$L49,IF($J49="","",IF($J49=8,L49-J49,IF(AND($J49<8,$L49>0),$L49-$J49,""))))) | L49: =+IF(AND($G49<=0,$H49<=0),IF(($I49-$F49)*24>0,($I49-$F49)*24,IF(AND($F49=0,$I49=0),"",('Time Increments'!$C$5-$F49)*24+($I49-'Time Increments'!$C$6)*24)),IF(($I49-$F49)*24>0,'Time Increments'!$E49+'Time Increments'!$D49,IF((H49-G49)*24>0,('Time Increments'!$C$5-$F49)*24+($I49-'Time Increments'!$C$6)*24-($H49-$G49)*24,('Time Increments'!$C$5-$F49)*24+($I49-'Time Increments'!$C$6)*24)+(('Time Increments'!$C$6-$H49)+($G49-'Time Increments'!$C$5))*24))
A50: SAT | J50: =+IF(AND($F50>0,$I50=0),"invalid entry",IF(AND($I50>0,$F50=0),"invalid entry",IF(AND($G50>0,$H50=0),"invalid entry",IF(AND($H50>0,$G50=0),"invalid entry",IF(AND(F50=0,G50=0,H50=0,I50=0),"",IF(AND(SUM($J$45:$K49)>40,SUM($L$45:$L50)>40),"",IF(SUM($L$45:$L50)>40,IF(SUM($L$45:$L50)-SUM($J$45:$K49)>0,40-SUM($L$45:$L49),IF(L50>=8,8,L50)),IF(L50>=8,8,L50)))))))) | K50: =+IF(J50="invalid entry","",IF(AND(SUM($J$45:$K49)>40,SUM($L$45:$L50)>40),$L50,IF($J50="","",IF($J50=8,L50-J50,IF(AND($J50<8,$L50>0),$L50-$J50,""))))) | L50: =+IF(AND($G50<=0,$H50<=0),IF(($I50-$F50)*24>0,($I50-$F50)*24,IF(AND($F50=0,$I50=0),"",('Time Increments'!$C$5-$F50)*24+($I50-'Time Increments'!$C$6)*24)),IF(($I50-$F50)*24>0,'Time Increments'!$E50+'Time Increments'!$D50,IF((H50-G50)*24>0,('Time Increments'!$C$5-$F50)*24+($I50-'Time Increments'!$C$6)*24-($H50-$G50)*24,('Time Increments'!$C$5-$F50)*24+($I50-'Time Increments'!$C$6)*24)+(('Time Increments'!$C$6-$H50)+($G50-'Time Increments'!$C$5))*24))
A51: SUN | J51: =+IF(AND($F51>0,$I51=0),"invalid entry",IF(AND($I51>0,$F51=0),"invalid entry",IF(AND($G51>0,$H51=0),"invalid entry",IF(AND($H51>0,$G51=0),"invalid entry",IF(AND(F51=0,G51=0,H51=0,I51=0),"",IF(AND(SUM($J$45:$K50)>40,SUM($L$45:$L51)>40),"",IF(SUM($L$45:$L51)>40,IF(SUM($L$45:$L51)-SUM($J$45:$K50)>0,40-SUM($L$45:$L50),IF(L51>=8,8,L51)),IF(L51>=8,8,L51)))))))) | K51: =+IF(J51="invalid entry","",IF(AND(SUM($J$45:$K50)>40,SUM($L$45:$L51)>40),$L51,IF($J51="","",IF($J51=8,L51-J51,IF(AND($J51<8,$L51>0),$L51-$J51,""))))) | L51: =+IF(AND($G51<=0,$H51<=0),IF(($I51-$F51)*24>0,($I51-$F51)*24,IF(AND($F51=0,$I51=0),"",('Time Increments'!$C$5-$F51)*24+($I51-'Time Increments'!$C$6)*24)),IF(($I51-$F51)*24>0,'Time Increments'!$E51+'Time Increments'!$D51,IF((H51-G51)*24>0,('Time Increments'!$C$5-$F51)*24+($I51-'Time Increments'!$C$6)*24-($H51-$G51)*24,('Time Increments'!$C$5-$F51)*24+($I51-'Time Increments'!$C$6)*24)+(('Time Increments'!$C$6-$H51)+($G51-'Time Increments'!$C$5))*24))
I52: Week Total | J52: =+IF(SUM($L45:$L51)>40,40,SUM($J45:$K51)) -> 0 | K52: =+IF(SUM($L45:$L51)>=40,SUM($L45:$L51)-40,"")
G54: Hourly Rate | H54: Total Hours | I54: Total Pay
A55: Employee Signature | F55: Regular Pay | H55: =SUM(J52,J43,J34,J25,J16) -> 0 | I55: =+H55*G55 -> 0 | J55: Total Pay | K55: =IF(H56>0,(H55*G55)+(H56*G56),H55*G55) -> 0
F56: Overtime Pay | G56: =IF(H56>0,G55*1.5,"") | H56: =SUM(K52,K43,K34,K25,K16) -> 0 | I56: =+IF(H56>0,H56*G56,"")
A57: Approved (Principal or Supervisor)
A59: Head Custodian Signature (for Sweepers only) | E59: Revised 5/12/2014 | G59: District Approval (if necessary)
